BEGIN:VCALENDAR
VERSION:2.0
PRODID:https://github.com/derhansen/sf_event_mgt
METHOD:PUBLISH
BEGIN:VEVENT
UID:1092-17@www.wms.agh.edu.pl
CLASS: PUBLIC
SUMMARY:Opuscula Mathematica Conference on Nonlinear Analysis
DESCRIPTION:Konferencja odbędzie się podczas Święta Nauk Ścisłych – Dni Pro
 fesora Antoniego Hoborskiego, w dniach 18–20 listopada br.\n\nSzczegółowe i
 nformacje: wms.mat.agh.edu.pl\n\n\n\n
DTSTAMP:20260409T073637Z
DTSTART:20261118T082000Z
DTEND:20261120T092000Z
END:VEVENT
END:VCALENDAR